BEGIN:VCALENDAR
VERSION:2.0
PRODID:-//Painted Lades Rodeo Performers - ECPv6.15.20//NONSGML v1.0//EN
CALSCALE:GREGORIAN
METHOD:PUBLISH
X-ORIGINAL-URL:https://paintedladiesrodeo.com
X-WR-CALDESC:Events for Painted Lades Rodeo Performers
REFRESH-INTERVAL;VALUE=DURATION:PT1H
X-Robots-Tag:noindex
X-PUBLISHED-TTL:PT1H
BEGIN:VTIMEZONE
TZID:UTC
BEGIN:STANDARD
TZOFFSETFROM:+0000
TZOFFSETTO:+0000
TZNAME:UTC
DTSTART:20240101T000000
END:STANDARD
END:VTIMEZONE
BEGIN:VEVENT
DTSTART;TZID=UTC:20250628T093000
DTEND;TZID=UTC:20250628T110000
DTSTAMP:20260424T051543
CREATED:20250211T140846Z
LAST-MODIFIED:20250521T194019Z
UID:824-1751103000-1751108400@paintedladiesrodeo.com
SUMMARY:FOLSOM HOMETOWN PARADE
DESCRIPTION:
URL:https://paintedladiesrodeo.com/event/folsom-hometown-parade/
LOCATION:CA
END:VEVENT
END:VCALENDAR