BEGIN:VCALENDAR
VERSION:2.0
PRODID:-//Painted Lades Rodeo Performers - ECPv6.15.20//NONSGML v1.0//EN
CALSCALE:GREGORIAN
METHOD:PUBLISH
X-WR-CALNAME:Painted Lades Rodeo Performers
X-ORIGINAL-URL:https://paintedladiesrodeo.com
X-WR-CALDESC:Events for Painted Lades Rodeo Performers
REFRESH-INTERVAL;VALUE=DURATION:PT1H
X-Robots-Tag:noindex
X-PUBLISHED-TTL:PT1H
BEGIN:VTIMEZONE
TZID:America/Los_Angeles
BEGIN:DAYLIGHT
TZOFFSETFROM:-0800
TZOFFSETTO:-0700
TZNAME:PDT
DTSTART:20240310T100000
END:DAYLIGHT
BEGIN:STANDARD
TZOFFSETFROM:-0700
TZOFFSETTO:-0800
TZNAME:PST
DTSTART:20241103T090000
END:STANDARD
BEGIN:DAYLIGHT
TZOFFSETFROM:-0800
TZOFFSETTO:-0700
TZNAME:PDT
DTSTART:20250309T100000
END:DAYLIGHT
BEGIN:STANDARD
TZOFFSETFROM:-0700
TZOFFSETTO:-0800
TZNAME:PST
DTSTART:20251102T090000
END:STANDARD
BEGIN:DAYLIGHT
TZOFFSETFROM:-0800
TZOFFSETTO:-0700
TZNAME:PDT
DTSTART:20260308T100000
END:DAYLIGHT
BEGIN:STANDARD
TZOFFSETFROM:-0700
TZOFFSETTO:-0800
TZNAME:PST
DTSTART:20261101T090000
END:STANDARD
END:VTIMEZONE
BEGIN:VEVENT
DTSTART;TZID=America/Los_Angeles:20251025T140000
DTEND;TZID=America/Los_Angeles:20251025T180000
DTSTAMP:20260423T222422
CREATED:20251008T130938Z
LAST-MODIFIED:20251008T131249Z
UID:955-1761400800-1761415200@paintedladiesrodeo.com
SUMMARY:HITCHED UP & HAUNTED
DESCRIPTION:
URL:https://paintedladiesrodeo.com/event/hitched-up-haunted/
LOCATION:South Shingle Springs Horse Arena\, 6770 Arena Lane\, Shingle Springs\, CA\, United States
END:VEVENT
END:VCALENDAR