BEGIN:VCALENDAR
VERSION:2.0
PRODID:-//Painted Lades Rodeo Performers - ECPv6.15.20//NONSGML v1.0//EN
CALSCALE:GREGORIAN
METHOD:PUBLISH
X-ORIGINAL-URL:https://paintedladiesrodeo.com
X-WR-CALDESC:Events for Painted Lades Rodeo Performers
REFRESH-INTERVAL;VALUE=DURATION:PT1H
X-Robots-Tag:noindex
X-PUBLISHED-TTL:PT1H
BEGIN:VTIMEZONE
TZID:America/Los_Angeles
BEGIN:DAYLIGHT
TZOFFSETFROM:-0800
TZOFFSETTO:-0700
TZNAME:PDT
DTSTART:20250309T100000
END:DAYLIGHT
BEGIN:STANDARD
TZOFFSETFROM:-0700
TZOFFSETTO:-0800
TZNAME:PST
DTSTART:20251102T090000
END:STANDARD
BEGIN:DAYLIGHT
TZOFFSETFROM:-0800
TZOFFSETTO:-0700
TZNAME:PDT
DTSTART:20260308T100000
END:DAYLIGHT
BEGIN:STANDARD
TZOFFSETFROM:-0700
TZOFFSETTO:-0800
TZNAME:PST
DTSTART:20261101T090000
END:STANDARD
BEGIN:DAYLIGHT
TZOFFSETFROM:-0800
TZOFFSETTO:-0700
TZNAME:PDT
DTSTART:20270314T100000
END:DAYLIGHT
BEGIN:STANDARD
TZOFFSETFROM:-0700
TZOFFSETTO:-0800
TZNAME:PST
DTSTART:20271107T090000
END:STANDARD
END:VTIMEZONE
BEGIN:VEVENT
DTSTART;TZID=America/Los_Angeles:20260508T190000
DTEND;TZID=America/Los_Angeles:20260508T220000
DTSTAMP:20260423T135014
CREATED:20260122T072524Z
LAST-MODIFIED:20260401T151810Z
UID:991-1778266800-1778277600@paintedladiesrodeo.com
SUMMARY:Dixon May Fair
DESCRIPTION:Flying U Rodeo and Production Bull Riding Event
URL:https://paintedladiesrodeo.com/event/tba-dixon-may-fair/
LOCATION:Dixon Fairgrounds\, 655 S 1st Street\, Dixon\, 95620\, United States
END:VEVENT
BEGIN:VEVENT
DTSTART;TZID=America/Los_Angeles:20260509T180000
DTEND;TZID=America/Los_Angeles:20260509T200000
DTSTAMP:20260423T135014
CREATED:20260311T170205Z
LAST-MODIFIED:20260311T170745Z
UID:1027-1778349600-1778356800@paintedladiesrodeo.com
SUMMARY:Ione Homecoming Ranch Rodeo
DESCRIPTION:
URL:https://paintedladiesrodeo.com/event/ione-homecoming-ranch-rodeo/
LOCATION:Ed Hughes Memorial Arena\, 701 CA-124\, Ione\, CA\, 95640\, United States
END:VEVENT
BEGIN:VEVENT
DTSTART;TZID=America/Los_Angeles:20260515T183000
DTEND;TZID=America/Los_Angeles:20260515T223000
DTSTAMP:20260423T135014
CREATED:20260122T072008Z
LAST-MODIFIED:20260122T075622Z
UID:988-1778869800-1778884200@paintedladiesrodeo.com
SUMMARY:Gold Country Pro Rodeo
DESCRIPTION:
URL:https://paintedladiesrodeo.com/event/gold-country-pro-rodeo-3/
LOCATION:Gold Country Fairgrounds\, 209 Fairgate Road\, Auburn\, CA\, 95603\, United States
END:VEVENT
BEGIN:VEVENT
DTSTART;TZID=America/Los_Angeles:20260516T153000
DTEND;TZID=America/Los_Angeles:20260516T193000
DTSTAMP:20260423T135014
CREATED:20260122T075002Z
LAST-MODIFIED:20260122T075400Z
UID:1004-1778945400-1778959800@paintedladiesrodeo.com
SUMMARY:Gold Country Rodeo
DESCRIPTION:
URL:https://paintedladiesrodeo.com/event/gold-country-rodeo/
LOCATION:Gold Country Fairgrounds\, 209 Fairgate Road\, Auburn\, CA\, 95603\, United States
END:VEVENT
BEGIN:VEVENT
DTSTART;TZID=America/Los_Angeles:20260517T133000
DTEND;TZID=America/Los_Angeles:20260517T183000
DTSTAMP:20260423T135014
CREATED:20260122T075146Z
LAST-MODIFIED:20260122T075146Z
UID:1006-1779024600-1779042600@paintedladiesrodeo.com
SUMMARY:Gold Country Rodeo
DESCRIPTION:
URL:https://paintedladiesrodeo.com/event/gold-country-rodeo-2/
LOCATION:Gold Country Fairgrounds\, 209 Fairgate Road\, Auburn\, CA\, 95603\, United States
END:VEVENT
BEGIN:VEVENT
DTSTART;TZID=America/Los_Angeles:20260523T170000
DTEND;TZID=America/Los_Angeles:20260523T170000
DTSTAMP:20260423T135014
CREATED:20260301T184928Z
LAST-MODIFIED:20260301T185310Z
UID:1014-1779555600-1779555600@paintedladiesrodeo.com
SUMMARY:Sacramento County Fair
DESCRIPTION:
URL:https://paintedladiesrodeo.com/event/el-dorado-county-fair/
LOCATION:Cal Expo\, 1600 Exposition Blvd\, Sacramento\, CA\, 95815\, United States
END:VEVENT
BEGIN:VEVENT
DTSTART;TZID=America/Los_Angeles:20260605T080000
DTEND;TZID=America/Los_Angeles:20260605T170000
DTSTAMP:20260423T135014
CREATED:20260122T073156Z
LAST-MODIFIED:20260122T073156Z
UID:993-1780646400-1780678800@paintedladiesrodeo.com
SUMMARY:Hangtown Motocross
DESCRIPTION:
URL:https://paintedladiesrodeo.com/event/hangtown-motocross/
LOCATION:Praire City SVRA\, 13300 White Rock Rd\, Folsom\, CA\, 95630\, United States
END:VEVENT
BEGIN:VEVENT
DTSTART;TZID=America/Los_Angeles:20260606T120000
DTEND;TZID=America/Los_Angeles:20260606T170000
DTSTAMP:20260423T135014
CREATED:20260122T073255Z
LAST-MODIFIED:20260122T073255Z
UID:995-1780747200-1780765200@paintedladiesrodeo.com
SUMMARY:Hangtown Motocross
DESCRIPTION:
URL:https://paintedladiesrodeo.com/event/hangtown-motocross-2/
LOCATION:Praire City SVRA\, 13300 White Rock Rd\, Folsom\, CA\, 95630\, United States
END:VEVENT
BEGIN:VEVENT
DTSTART;TZID=America/Los_Angeles:20260620T080000
DTEND;TZID=America/Los_Angeles:20260620T170000
DTSTAMP:20260423T135014
CREATED:20260311T173303Z
LAST-MODIFIED:20260311T173303Z
UID:1038-1781942400-1781974800@paintedladiesrodeo.com
SUMMARY:El Dorado County Fair
DESCRIPTION:
URL:https://paintedladiesrodeo.com/event/el-dorado-county-fair-2/
LOCATION:Placerville Fairgrounds\, 100 Placerville Drive\, Placerville\,\, CA\, 95667\, United States
END:VEVENT
BEGIN:VEVENT
DTSTART;TZID=America/Los_Angeles:20260701T190000
DTEND;TZID=America/Los_Angeles:20260701T210000
DTSTAMP:20260423T135014
CREATED:20260323T153924Z
LAST-MODIFIED:20260323T153924Z
UID:1045-1782932400-1782939600@paintedladiesrodeo.com
SUMMARY:Folsom Hometown Parade
DESCRIPTION:
URL:https://paintedladiesrodeo.com/event/folsom-hometown-parade-2/
LOCATION:Sutter Street Folsom\, Sutter Street\, Folsom\, CA\, United States
END:VEVENT
BEGIN:VEVENT
DTSTART;TZID=America/Los_Angeles:20260702T180000
DTEND;TZID=America/Los_Angeles:20260702T220000
DTSTAMP:20260423T135014
CREATED:20260122T074034Z
LAST-MODIFIED:20260122T074034Z
UID:997-1783015200-1783029600@paintedladiesrodeo.com
SUMMARY:Folsom Pro Rodeo
DESCRIPTION:
URL:https://paintedladiesrodeo.com/event/folsom-pro-rodeo-4/
LOCATION:Dan Russell Arena\, Stafford St\, Folsom\, CA 95630\, 95630\, United States
END:VEVENT
BEGIN:VEVENT
DTSTART;TZID=America/Los_Angeles:20260703T180000
DTEND;TZID=America/Los_Angeles:20260703T220000
DTSTAMP:20260423T135014
CREATED:20260122T074432Z
LAST-MODIFIED:20260122T074432Z
UID:1000-1783101600-1783116000@paintedladiesrodeo.com
SUMMARY:Folsom Pro Rodeo
DESCRIPTION:
URL:https://paintedladiesrodeo.com/event/folsom-pro-rodeo-5/
LOCATION:Dan Russell Arena\, Stafford St\, Folsom\, CA 95630\, 95630\, United States
END:VEVENT
BEGIN:VEVENT
DTSTART;TZID=America/Los_Angeles:20260704T180000
DTEND;TZID=America/Los_Angeles:20260704T220000
DTSTAMP:20260423T135014
CREATED:20260122T074539Z
LAST-MODIFIED:20260122T074539Z
UID:1002-1783188000-1783202400@paintedladiesrodeo.com
SUMMARY:Folsom Pro Rodeo
DESCRIPTION:
URL:https://paintedladiesrodeo.com/event/folsom-pro-rodeo-6/
LOCATION:Dan Russell Arena\, Stafford St\, Folsom\, CA 95630\, 95630\, United States
END:VEVENT
BEGIN:VEVENT
DTSTART;TZID=America/Los_Angeles:20260716T080000
DTEND;TZID=America/Los_Angeles:20260719T170000
DTSTAMP:20260423T135014
CREATED:20260301T191705Z
LAST-MODIFIED:20260301T191705Z
UID:1018-1784188800-1784480400@paintedladiesrodeo.com
SUMMARY:Friends of Painted Ladies @ California Rodeo Salinas
DESCRIPTION:
URL:https://paintedladiesrodeo.com/event/friends-of-painted-ladies-california-rodeo-salinas/
LOCATION:Salinas Sports Complex\, 1034 N. Main Street\, Salinas\, CA 93906\, CA\, 96906\, United States
END:VEVENT
BEGIN:VEVENT
DTSTART;TZID=America/Los_Angeles:20260717T183000
DTEND;TZID=America/Los_Angeles:20260717T210000
DTSTAMP:20260423T135014
CREATED:20260421T221850Z
LAST-MODIFIED:20260421T221850Z
UID:1052-1784313000-1784322000@paintedladiesrodeo.com
SUMMARY:Stanislaus County Fair PRCA Rodeo
DESCRIPTION:
URL:https://paintedladiesrodeo.com/event/stanislaus-county-fair-prca-rodeo/
LOCATION:Stanislaus County Fairgrounds\, 900 N Broadway\, Turlock\, CA\, 95380\, United States
END:VEVENT
BEGIN:VEVENT
DTSTART;TZID=America/Los_Angeles:20260812T180000
DTEND;TZID=America/Los_Angeles:20260812T210000
DTSTAMP:20260423T135014
CREATED:20260301T192316Z
LAST-MODIFIED:20260301T192316Z
UID:1020-1786557600-1786568400@paintedladiesrodeo.com
SUMMARY:TBA Nevada County Fair
DESCRIPTION:
URL:https://paintedladiesrodeo.com/event/tba-nevada-county-fair/
LOCATION:Nevada County Fairgrounds\, 11228 McCourtney Road\, Grass Valley\, CA\, 95949\, United States
END:VEVENT
BEGIN:VEVENT
DTSTART;TZID=America/Los_Angeles:20260912T190000
DTEND;TZID=America/Los_Angeles:20260912T210000
DTSTAMP:20260423T135014
CREATED:20260311T170424Z
LAST-MODIFIED:20260311T170710Z
UID:1029-1789239600-1789246800@paintedladiesrodeo.com
SUMMARY:SacTown Rodeo
DESCRIPTION:
URL:https://paintedladiesrodeo.com/event/sactown-rodeo-2/
LOCATION:Cal Expo\, 1600 Exposition Blvd\, Sacramento\, CA\, 95815\, United States
END:VEVENT
BEGIN:VEVENT
DTSTART;TZID=America/Los_Angeles:20260913T190000
DTEND;TZID=America/Los_Angeles:20260913T210000
DTSTAMP:20260423T135014
CREATED:20260311T170523Z
LAST-MODIFIED:20260311T170633Z
UID:1031-1789326000-1789333200@paintedladiesrodeo.com
SUMMARY:SacTown Rodeo
DESCRIPTION:
URL:https://paintedladiesrodeo.com/event/sactown-rodeo-3/
LOCATION:Cal Expo\, 1600 Exposition Blvd\, Sacramento\, CA\, 95815\, United States
END:VEVENT
BEGIN:VEVENT
DTSTART;TZID=America/Los_Angeles:20261003T160000
DTEND;TZID=America/Los_Angeles:20261003T210000
DTSTAMP:20260423T135014
CREATED:20260301T192639Z
LAST-MODIFIED:20260301T192639Z
UID:1023-1791043200-1791061200@paintedladiesrodeo.com
SUMMARY:Sacramento County Sheriff's Rodeo
DESCRIPTION:
URL:https://paintedladiesrodeo.com/event/sacramento-county-sheriffs-rodeo/
LOCATION:Dan Russell Arena\, Stafford St\, Folsom\, CA 95630\, 95630\, United States
END:VEVENT
END:VCALENDAR