BEGIN:VCALENDAR
VERSION:2.0
PRODID:-//Painted Lades Rodeo Performers - ECPv6.15.20//NONSGML v1.0//EN
CALSCALE:GREGORIAN
METHOD:PUBLISH
X-ORIGINAL-URL:https://paintedladiesrodeo.com
X-WR-CALDESC:Events for Painted Lades Rodeo Performers
REFRESH-INTERVAL;VALUE=DURATION:PT1H
X-Robots-Tag:noindex
X-PUBLISHED-TTL:PT1H
BEGIN:VTIMEZONE
TZID:America/Los_Angeles
BEGIN:DAYLIGHT
TZOFFSETFROM:-0800
TZOFFSETTO:-0700
TZNAME:PDT
DTSTART:20240310T100000
END:DAYLIGHT
BEGIN:STANDARD
TZOFFSETFROM:-0700
TZOFFSETTO:-0800
TZNAME:PST
DTSTART:20241103T090000
END:STANDARD
BEGIN:DAYLIGHT
TZOFFSETFROM:-0800
TZOFFSETTO:-0700
TZNAME:PDT
DTSTART:20250309T100000
END:DAYLIGHT
BEGIN:STANDARD
TZOFFSETFROM:-0700
TZOFFSETTO:-0800
TZNAME:PST
DTSTART:20251102T090000
END:STANDARD
BEGIN:DAYLIGHT
TZOFFSETFROM:-0800
TZOFFSETTO:-0700
TZNAME:PDT
DTSTART:20260308T100000
END:DAYLIGHT
BEGIN:STANDARD
TZOFFSETFROM:-0700
TZOFFSETTO:-0800
TZNAME:PST
DTSTART:20261101T090000
END:STANDARD
END:VTIMEZONE
BEGIN:VTIMEZONE
TZID:UTC
BEGIN:STANDARD
TZOFFSETFROM:+0000
TZOFFSETTO:+0000
TZNAME:UTC
DTSTART:20230101T000000
END:STANDARD
END:VTIMEZONE
BEGIN:VEVENT
DTSTART;TZID=America/Los_Angeles:20250622T100000
DTEND;TZID=America/Los_Angeles:20250622T120000
DTSTAMP:20260423T154846
CREATED:20250608T085014Z
LAST-MODIFIED:20250609T154452Z
UID:888-1750586400-1750593600@paintedladiesrodeo.com
SUMMARY:Painted Ladies Foundation Clinic
DESCRIPTION:
URL:https://paintedladiesrodeo.com/event/painted-ladies-foundation-clinic/
LOCATION:Loomis Basin Horse Arena\, 3550 Ong Pl\,\, Loomis\, CA\, 95650\, United States
END:VEVENT
BEGIN:VEVENT
DTSTART;TZID=UTC:20250614T120000
DTEND;TZID=UTC:20250614T140000
DTSTAMP:20260423T154846
CREATED:20250213T011046Z
LAST-MODIFIED:20250521T193636Z
UID:827-1749902400-1749909600@paintedladiesrodeo.com
SUMMARY:EL DORADO COUNTY FAIR
DESCRIPTION:Two Shows 12:00 pm and 2:00 pm
URL:https://paintedladiesrodeo.com/event/el-dorado-county/
LOCATION:CA
END:VEVENT
BEGIN:VEVENT
DTSTART;TZID=UTC:20250531T120000
DTEND;TZID=UTC:20250531T140000
DTSTAMP:20260423T154846
CREATED:20250211T135044Z
LAST-MODIFIED:20250521T193711Z
UID:821-1748692800-1748700000@paintedladiesrodeo.com
SUMMARY:HANGTOWN MOTOCROSS CLASSIC (PEACOCK)
DESCRIPTION:
URL:https://paintedladiesrodeo.com/event/hangtown-motocross-classic/
LOCATION:Praire City SVRA\, 13300 White Rock Rd\, Folsom\, CA\, 95630\, United States
END:VEVENT
BEGIN:VEVENT
DTSTART;TZID=UTC:20250530T110000
DTEND;TZID=UTC:20250530T120000
DTSTAMP:20260423T154846
CREATED:20250515T122811Z
LAST-MODIFIED:20250521T115943Z
UID:847-1748602800-1748606400@paintedladiesrodeo.com
SUMMARY:Hangtown Motocross Fox 40
DESCRIPTION:
URL:https://paintedladiesrodeo.com/event/hangtown-motocross-fox-40/
LOCATION:Praire City SVRA\, 13300 White Rock Rd\, Folsom\, CA\, 95630\, United States
END:VEVENT
BEGIN:VEVENT
DTSTART;TZID=UTC:20250524T190000
DTEND;TZID=UTC:20250524T210000
DTSTAMP:20260423T154846
CREATED:20250411T052943Z
LAST-MODIFIED:20250411T052943Z
UID:842-1748113200-1748120400@paintedladiesrodeo.com
SUMMARY:SACRAMENTO COUNTY FAIR RODEO
DESCRIPTION:
URL:https://paintedladiesrodeo.com/event/sacramento-county-fair-rodeo/
LOCATION:Cal Expo\, 1600 Exposition Blvd\, Sacramento\, CA\, 95815\, United States
END:VEVENT
BEGIN:VEVENT
DTSTART;TZID=UTC:20250524T120000
DTEND;TZID=UTC:20250524T130000
DTSTAMP:20260423T154846
CREATED:20250211T134835Z
LAST-MODIFIED:20250521T193751Z
UID:817-1748088000-1748091600@paintedladiesrodeo.com
SUMMARY:HANGTOWN MOTOCROSS AMATUER
DESCRIPTION:
URL:https://paintedladiesrodeo.com/event/hangtown-motocross-amatuer/
LOCATION:Praire City SVRA\, 13300 White Rock Rd\, Folsom\, CA\, 95630\, United States
END:VEVENT
BEGIN:VEVENT
DTSTART;TZID=UTC:20250510T100000
DTEND;TZID=UTC:20250510T160000
DTSTAMP:20260423T154846
CREATED:20250211T133402Z
LAST-MODIFIED:20250521T193856Z
UID:811-1746871200-1746892800@paintedladiesrodeo.com
SUMMARY:IONE ANNUAL HOMECOMING RANCH RODEO
DESCRIPTION:
URL:https://paintedladiesrodeo.com/event/ione-annual-homecoming/
LOCATION:Ed Hughes Memorial Arena\, 701 CA-124\, Ione\, CA\, 95640\, United States
END:VEVENT
BEGIN:VEVENT
DTSTART;TZID=UTC:20250509T190000
DTEND;TZID=UTC:20250509T190000
DTSTAMP:20260423T154846
CREATED:20250211T133753Z
LAST-MODIFIED:20250521T193817Z
UID:814-1746817200-1746817200@paintedladiesrodeo.com
SUMMARY:DIXON MAY FAIR
DESCRIPTION:
URL:https://paintedladiesrodeo.com/event/dixon-may-fair/
LOCATION:Dixon May Fair\, 655 S 1st Street\, Dixon\, CA\, 95620\, United States
END:VEVENT
BEGIN:VEVENT
DTSTART;TZID=UTC:20250426T160000
DTEND;TZID=UTC:20250426T210000
DTSTAMP:20260423T154846
CREATED:20250211T130931Z
LAST-MODIFIED:20250222T041314Z
UID:808-1745683200-1745701200@paintedladiesrodeo.com
SUMMARY:Painted Ladies Foundation - BBQ Fundraiser & Barn Party
DESCRIPTION:BBQ Fundraiser & Barn PartyPresented by the Painted Ladies Foundation \nBring the whole family for an evening of great food\, drinks\, and community fun—all in support of a meaningful cause! The Painted Ladies Foundation invites you to our BBQ Fundraiser & Barn Party\, celebrating a fantastic year of entertaining events and horse therapy clinics. \n‍‍‍ Family-Friendly Event! \n ***** Purchase Tickets Here  ***** \nHappy Hour (4–6 PM) – FREE!Kick off the evening with happy hour! Enjoy drinks\, mingle with friends\, and meet the Painted Ladies Rodeo Performers before dinner begins. \nBBQ Dinner at 6 PMTicket Includes: \n\nDelicious BBQ dinner\n1 drink ticket\nFirst-come\, first-served seating\n\nRaffle Prizes!Take your chance at winning some fantastic raffle prizes while supporting our mission of helping grieving young adults and children through animal-assisted interactions. \nDate: April 26thLocation: 5220 Val Verde Road Loomis\, CA 95650⏰ Time: Happy Hour 4–6 PM | Dinner at 6 PM \nGet your tickets now! \nAll proceeds go directly to the Painted Ladies Foundation to continue providing therapeutic equine experiences to those in need. \nWe can’t wait to celebrate with you! \n ***** Purchase Tickets Here  ***** \n  \n 
URL:https://paintedladiesrodeo.com/event/painted-ladies-foundation-spring-fundraiser/
LOCATION:Val Verde Ranch\, 5220 Val Verde Road\, Loomis\, CA\, United States
END:VEVENT
BEGIN:VEVENT
DTSTART;TZID=UTC:20250413T140000
DTEND;TZID=UTC:20250413T180000
DTSTAMP:20260423T154846
CREATED:20250208T100428Z
LAST-MODIFIED:20250521T193916Z
UID:806-1744552800-1744567200@paintedladiesrodeo.com
SUMMARY:GOLD COUNTRY PRO RODEO
DESCRIPTION:
URL:https://paintedladiesrodeo.com/event/gold-country-pro-rodeo-2/
LOCATION:CA
END:VEVENT
BEGIN:VEVENT
DTSTART;TZID=UTC:20250412T160000
DTEND;TZID=UTC:20250412T220000
DTSTAMP:20260423T154846
CREATED:20250208T100341Z
LAST-MODIFIED:20250521T193935Z
UID:804-1744473600-1744495200@paintedladiesrodeo.com
SUMMARY:GOLD COUNTRY PRO RODEO
DESCRIPTION:
URL:https://paintedladiesrodeo.com/event/gold-country-pro-rodeo/
LOCATION:CA
END:VEVENT
BEGIN:VEVENT
DTSTART;TZID=UTC:20250411T190000
DTEND;TZID=UTC:20250411T220000
DTSTAMP:20260423T154846
CREATED:20250208T095458Z
LAST-MODIFIED:20250521T193951Z
UID:800-1744398000-1744408800@paintedladiesrodeo.com
SUMMARY:GOLD COUNTRY PRO RODEO
DESCRIPTION:
URL:https://paintedladiesrodeo.com/event/gold-country-rodeo-in-auburn/
LOCATION:CA
END:VEVENT
BEGIN:VEVENT
DTSTART;TZID=UTC:20250315T123000
DTEND;TZID=UTC:20250315T143000
DTSTAMP:20260423T154846
CREATED:20250208T094934Z
LAST-MODIFIED:20250208T094934Z
UID:798-1742041800-1742049000@paintedladiesrodeo.com
SUMMARY:St. Patrick's Day Parade and Festival
DESCRIPTION:
URL:https://paintedladiesrodeo.com/event/st-patricks-day-parade-and-festival/
LOCATION:CA
END:VEVENT
BEGIN:VEVENT
DTSTART;TZID=UTC:20250309T100000
DTEND;TZID=UTC:20250309T120000
DTSTAMP:20260423T154846
CREATED:20250208T094813Z
LAST-MODIFIED:20250208T094813Z
UID:796-1741514400-1741521600@paintedladiesrodeo.com
SUMMARY:Open Practice
DESCRIPTION:
URL:https://paintedladiesrodeo.com/event/open-practice/
LOCATION:CA
END:VEVENT
BEGIN:VEVENT
DTSTART;TZID=UTC:20250302T100000
DTEND;TZID=UTC:20250302T120000
DTSTAMP:20260423T154846
CREATED:20250208T093916Z
LAST-MODIFIED:20250208T094350Z
UID:792-1740909600-1740916800@paintedladiesrodeo.com
SUMMARY:Open Practice
DESCRIPTION:
URL:https://paintedladiesrodeo.com/event/saint-patrick-parade/
LOCATION:CA
END:VEVENT
BEGIN:VEVENT
DTSTART;TZID=UTC:20250101T080000
DTEND;TZID=UTC:20250101T100000
DTSTAMP:20260423T154846
CREATED:20241205T053201Z
LAST-MODIFIED:20241205T053201Z
UID:152-1735718400-1735725600@paintedladiesrodeo.com
SUMMARY:Tournament of Roses Parade
DESCRIPTION:The Pasadena Tournament of Roses announced the selection of Painted Ladies Rodeo Performers to participate in the 136th Rose Parade presented by Honda on Wednesday\, January 1\, 2025. \nThe parade\, themed “Best Day Ever!” will feature a variety of horse breeds and riding styles along the 5.5-mile route on Colorado Boulevard. Equestrian units have been a key component of the parade since its inception in 1890.
URL:https://paintedladiesrodeo.com/event/tournament-of-roses-parade/
LOCATION:Tournament of Roses\, Orange Grove Blvd. & Colorado Blvd\, Pasadena\, CA\, 91103\, United States
END:VEVENT
BEGIN:VEVENT
DTSTART;TZID=UTC:20241229T100000
DTEND;TZID=UTC:20241229T150000
DTSTAMP:20260423T154846
CREATED:20241123T135838Z
LAST-MODIFIED:20241123T141058Z
UID:81-1735466400-1735484400@paintedladiesrodeo.com
SUMMARY:Equestfest
DESCRIPTION:Each year\, the Rose Parade’s equestrian units showcase their breeds and demonstrate their talent with performances at Equestfest. Held on December 29 at the Los Angeles Equestrian Center\, this family-friendly event includes an exciting equestrian show\, musical performances\, and a food and vendor court. The equestrian show features a variety of horse breeds\, as well as a variety of drills\, dances\, tricks\, and thrills! \nAttendees are invited to view the equestrian participants in the warm-up rings\, prior to their performances. There may also be opportunities to meet the performers and participate in educational and interactive exhibits.
URL:https://paintedladiesrodeo.com/event/equestfest/
LOCATION:Los Angeles Equestrian Center\, 480 W. Riverside Dr.\, Burbank\, CA\, 91506\, United States
END:VEVENT
BEGIN:VEVENT
DTSTART;TZID=UTC:20241214T100000
DTEND;TZID=UTC:20241214T120000
DTSTAMP:20260423T154846
CREATED:20241123T135510Z
LAST-MODIFIED:20241123T135510Z
UID:79-1734170400-1734177600@paintedladiesrodeo.com
SUMMARY:Downtown Santa Parade
DESCRIPTION:Join the Painted Ladies Rodeo Performers for the Sacramento Santa Parade! Come watch the festive floats\, marching bands\, and of course\, Santa Claus himself. It’s a fun event for the whole family.
URL:https://paintedladiesrodeo.com/event/downtown-santa-parade/
LOCATION:CA
END:VEVENT
BEGIN:VEVENT
DTSTART;TZID=UTC:20241207T090000
DTEND;TZID=UTC:20241207T113000
DTSTAMP:20260423T154846
CREATED:20241123T135209Z
LAST-MODIFIED:20241123T135209Z
UID:76-1733562000-1733571000@paintedladiesrodeo.com
SUMMARY:Roseville Holiday Parade
DESCRIPTION:Come join us for the 63rd Annual -Sylvia Besana / Roseville Holiday Parade.
URL:https://paintedladiesrodeo.com/event/roseville-holiday-parade/
LOCATION:Roseville Holiday Parade\, 311 Vernon St\, Roseville\, CA\, 95748\, United States
END:VEVENT
BEGIN:VEVENT
DTSTART;TZID=UTC:20241206T170000
DTEND;TZID=UTC:20241206T210000
DTSTAMP:20260423T154846
CREATED:20241123T134203Z
LAST-MODIFIED:20241207T054216Z
UID:72-1733504400-1733518800@paintedladiesrodeo.com
SUMMARY:Folsom’s Christmas Tree Lighting Hot Chocolate Booth Sutter Street
DESCRIPTION:Join us for some hot choclate and fun at the annual Folsom Christmas Tree Lighting in Down Town Folsom. Fun for the entire family.
URL:https://paintedladiesrodeo.com/event/folsoms-christmas-tree-lighting-hot-chocolate-booth-sutter-street/
LOCATION:Sutter Street Folsom\, Sutter Street\, Folsom\, CA\, United States
END:VEVENT
BEGIN:VEVENT
DTSTART;TZID=UTC:20241127T090000
DTEND;TZID=UTC:20241127T093000
DTSTAMP:20260423T154846
CREATED:20241123T133739Z
LAST-MODIFIED:20241123T134349Z
UID:68-1732698000-1732699800@paintedladiesrodeo.com
SUMMARY:Day Before Thanksgiving Parade\, Loomis\, CA
DESCRIPTION:Come join us for the Day Before Thanksgiving Parade\, Loomis\, CA. The parade starts at 9 am and is rain or shine. Hope to see you there.
URL:https://paintedladiesrodeo.com/event/day-before-thanksgiving-parade-loomis-ca/
LOCATION:Day Before Thanksgiving Parade\, 3669 Taylor Rd\, Loomis\, CA\, 95650\, United States
END:VEVENT
END:VCALENDAR