BEGIN:VCALENDAR
VERSION:2.0
PRODID:-//Painted Lades Rodeo Performers - ECPv6.15.20//NONSGML v1.0//EN
CALSCALE:GREGORIAN
METHOD:PUBLISH
X-WR-CALNAME:Painted Lades Rodeo Performers
X-ORIGINAL-URL:https://paintedladiesrodeo.com
X-WR-CALDESC:Events for Painted Lades Rodeo Performers
REFRESH-INTERVAL;VALUE=DURATION:PT1H
X-Robots-Tag:noindex
X-PUBLISHED-TTL:PT1H
BEGIN:VTIMEZONE
TZID:UTC
BEGIN:STANDARD
TZOFFSETFROM:+0000
TZOFFSETTO:+0000
TZNAME:UTC
DTSTART:20240101T000000
END:STANDARD
END:VTIMEZONE
BEGIN:VTIMEZONE
TZID:America/Los_Angeles
BEGIN:DAYLIGHT
TZOFFSETFROM:-0800
TZOFFSETTO:-0700
TZNAME:PDT
DTSTART:20240310T100000
END:DAYLIGHT
BEGIN:STANDARD
TZOFFSETFROM:-0700
TZOFFSETTO:-0800
TZNAME:PST
DTSTART:20241103T090000
END:STANDARD
BEGIN:DAYLIGHT
TZOFFSETFROM:-0800
TZOFFSETTO:-0700
TZNAME:PDT
DTSTART:20250309T100000
END:DAYLIGHT
BEGIN:STANDARD
TZOFFSETFROM:-0700
TZOFFSETTO:-0800
TZNAME:PST
DTSTART:20251102T090000
END:STANDARD
BEGIN:DAYLIGHT
TZOFFSETFROM:-0800
TZOFFSETTO:-0700
TZNAME:PDT
DTSTART:20260308T100000
END:DAYLIGHT
BEGIN:STANDARD
TZOFFSETFROM:-0700
TZOFFSETTO:-0800
TZNAME:PST
DTSTART:20261101T090000
END:STANDARD
END:VTIMEZONE
BEGIN:VEVENT
DTSTART;TZID=UTC:20250806T190000
DTEND;TZID=UTC:20250806T210000
DTSTAMP:20260424T001116
CREATED:20250521T120845Z
LAST-MODIFIED:20250521T120845Z
UID:851-1754506800-1754514000@paintedladiesrodeo.com
SUMMARY:NEVADA COUNTY FAIR
DESCRIPTION:
URL:https://paintedladiesrodeo.com/event/nevada-county-fair/
LOCATION:Nevada County Fair\, 11228 McCourtney Road\, Grass Valley\, CA. 95949\, CA\, 95949\, United States
END:VEVENT
BEGIN:VEVENT
DTSTART;TZID=America/Los_Angeles:20250809T150000
DTEND;TZID=America/Los_Angeles:20250809T190000
DTSTAMP:20260424T001116
CREATED:20250709T014556Z
LAST-MODIFIED:20250709T015147Z
UID:919-1754751600-1754766000@paintedladiesrodeo.com
SUMMARY:SUMMER FESTIVAL and RODEO/KEEP MEMORY ALIVE
DESCRIPTION:
URL:https://paintedladiesrodeo.com/event/summer-festival-and-rodeo-keep-memory-alive/
LOCATION:Shakespere Ranch\, South Lake Tahoe\, Glenbrook\, Nevada\, United States
END:VEVENT
BEGIN:VEVENT
DTSTART;TZID=America/Los_Angeles:20250823T190000
DTEND;TZID=America/Los_Angeles:20250823T220000
DTSTAMP:20260424T001116
CREATED:20250820T181427Z
LAST-MODIFIED:20250820T181755Z
UID:939-1755975600-1755986400@paintedladiesrodeo.com
SUMMARY:BULLS AND BRONCS
DESCRIPTION:
URL:https://paintedladiesrodeo.com/event/bulls-and-broncs/
LOCATION:Butte County Fair
END:VEVENT
END:VCALENDAR