BEGIN:VCALENDAR
VERSION:2.0
PRODID:-//Painted Lades Rodeo Performers - ECPv6.15.20//NONSGML v1.0//EN
CALSCALE:GREGORIAN
METHOD:PUBLISH
X-ORIGINAL-URL:https://paintedladiesrodeo.com
X-WR-CALDESC:Events for Painted Lades Rodeo Performers
REFRESH-INTERVAL;VALUE=DURATION:PT1H
X-Robots-Tag:noindex
X-PUBLISHED-TTL:PT1H
BEGIN:VTIMEZONE
TZID:UTC
BEGIN:STANDARD
TZOFFSETFROM:+0000
TZOFFSETTO:+0000
TZNAME:UTC
DTSTART:20240101T000000
END:STANDARD
END:VTIMEZONE
BEGIN:VTIMEZONE
TZID:America/Los_Angeles
BEGIN:DAYLIGHT
TZOFFSETFROM:-0800
TZOFFSETTO:-0700
TZNAME:PDT
DTSTART:20240310T100000
END:DAYLIGHT
BEGIN:STANDARD
TZOFFSETFROM:-0700
TZOFFSETTO:-0800
TZNAME:PST
DTSTART:20241103T090000
END:STANDARD
BEGIN:DAYLIGHT
TZOFFSETFROM:-0800
TZOFFSETTO:-0700
TZNAME:PDT
DTSTART:20250309T100000
END:DAYLIGHT
BEGIN:STANDARD
TZOFFSETFROM:-0700
TZOFFSETTO:-0800
TZNAME:PST
DTSTART:20251102T090000
END:STANDARD
BEGIN:DAYLIGHT
TZOFFSETFROM:-0800
TZOFFSETTO:-0700
TZNAME:PDT
DTSTART:20260308T100000
END:DAYLIGHT
BEGIN:STANDARD
TZOFFSETFROM:-0700
TZOFFSETTO:-0800
TZNAME:PST
DTSTART:20261101T090000
END:STANDARD
END:VTIMEZONE
BEGIN:VEVENT
DTSTART;TZID=UTC:20250911T180000
DTEND;TZID=UTC:20250911T200000
DTSTAMP:20260423T223032
CREATED:20250521T202614Z
LAST-MODIFIED:20250521T202614Z
UID:878-1757613600-1757620800@paintedladiesrodeo.com
SUMMARY:911 REMEMBERANCE
DESCRIPTION:
URL:https://paintedladiesrodeo.com/event/911-rememberance/
LOCATION:Sutter Street Folsom\, Sutter Street\, Folsom\, CA\, United States
END:VEVENT
BEGIN:VEVENT
DTSTART;TZID=America/Los_Angeles:20250913T160000
DTEND;TZID=America/Los_Angeles:20250913T200000
DTSTAMP:20260423T223032
CREATED:20250807T233011Z
LAST-MODIFIED:20250807T233412Z
UID:929-1757779200-1757793600@paintedladiesrodeo.com
SUMMARY:MARYSVILLE STAMPEDE
DESCRIPTION:
URL:https://paintedladiesrodeo.com/event/marysville-stampede/
LOCATION:CA
END:VEVENT
BEGIN:VEVENT
DTSTART;TZID=America/Los_Angeles:20250914T150000
DTEND;TZID=America/Los_Angeles:20250914T190000
DTSTAMP:20260423T223032
CREATED:20250807T233221Z
LAST-MODIFIED:20250807T233331Z
UID:931-1757862000-1757876400@paintedladiesrodeo.com
SUMMARY:MARYSVILLE STAMPEDE
DESCRIPTION:
URL:https://paintedladiesrodeo.com/event/marysville-stampede-2/
LOCATION:CA
END:VEVENT
BEGIN:VEVENT
DTSTART;TZID=America/Los_Angeles:20250920T160000
DTEND;TZID=America/Los_Angeles:20250920T210000
DTSTAMP:20260423T223032
CREATED:20250709T021424Z
LAST-MODIFIED:20250709T021430Z
UID:924-1758384000-1758402000@paintedladiesrodeo.com
SUMMARY:CDS CHAMPIONSHIP SHOW
DESCRIPTION:
URL:https://paintedladiesrodeo.com/event/cds-championship-show/
LOCATION:Murrieta Equestrian Center\, 7200 Lone Pine Drive\, Rancho Murieta\, CA\, 95683\, United States
END:VEVENT
BEGIN:VEVENT
DTSTART;TZID=UTC:20250920T183000
DTEND;TZID=UTC:20250920T210000
DTSTAMP:20260423T223032
CREATED:20250521T194213Z
LAST-MODIFIED:20250521T194213Z
UID:875-1758393000-1758402000@paintedladiesrodeo.com
SUMMARY:SACTOWN RODEO
DESCRIPTION:
URL:https://paintedladiesrodeo.com/event/sactown-rodeo/
LOCATION:Cal Expo\, 1600 Exposition Blvd\, Sacramento\, CA\, 95815\, United States
END:VEVENT
END:VCALENDAR